BEGIN:VCALENDAR
VERSION:2.0
PRODID:-//ChamberMaster//Event Calendar 2.0//EN
METHOD:PUBLISH
X-PUBLISHED-TTL:P3D
REFRESH-INTERVAL:P3D
CALSCALE:GREGORIAN
BEGIN:VEVENT
DTSTART:20250121T150000Z
DTEND:20250121T160000Z
X-MICROSOFT-CDO-ALLDAYEVENT:FALSE
SUMMARY:Chronicles of Yarnia
DESCRIPTION:Are you a lover of crochet\, knitting\, needlepoint\, hand sewing\, tatting\, beading\, embroidery\, macram \, or any other handcraft? Whether you're a seasoned crafter with years of experience or just beginning your journey into the world of fiber arts\, we have the perfect gathering for you!\n\nWe meet weekly:\n\n1st & 3rd Tuesday - 10:00 a.m.\n\n2nd & 4th Tuesday - 5:00 p.m.\n\nBeginners Welcome!\n\nIf you're new to crafting and looking for a supportive community to start your creative journey\, look no further! Our hangout is the perfect place to ask questions\, get advice\, and find encouragement among friends. Don't worry if you're just learning how to hold a needle or cast on your first stitch\; we welcome all levels of experience with open arms.\n\nBring your current project\, your brightest ideas\, or just your enthusiasm for crafts. We can't wait to meet you and see what you're working on. This is your chance to join a community that celebrates creativity and craftsmanship in all its forms.\n\nTuesday\, January 21 | 10 - 11 a.m. | Meeting Room | Adult Program\n\nMain Library: 455 McKinney Pkwy\, Lillington\, NC 27546\n\nNo Registration Required
X-ALT-DESC;FMTTYPE=text/html:<p>Are you a lover of crochet\, knitting\, needlepoint\, hand sewing\, tatting\, beading\, embroidery\, macram&eacute\;\, or any other handcraft? Whether you&#39\;re a seasoned crafter with years of experience or just beginning your journey into the world of fiber arts\, we have the perfect gathering for you!</p>\n\n<p>We meet weekly:</p>\n\n<p><strong>1st &amp\; 3rd Tuesday -&nbsp\;10:00 a.m.<br />\n2nd &amp\; 4th Tuesday - 5:00&nbsp\;p.m.</strong></p>\n\n<p>Beginners Welcome!</p>\n\n<p>If you&#39\;re new to crafting and looking for a supportive community to start your creative journey\, look no further! Our hangout is the perfect place to ask questions\, get advice\, and find encouragement among friends. Don&#39\;t worry if you&#39\;re just learning how to hold a needle or cast on your first stitch\; we welcome all levels of experience with open arms.</p>\n\n<p>Bring your current project\, your brightest ideas\, or just your enthusiasm for crafts. We can&#39\;t wait to meet you and see what you&#39\;re working on. This is your chance to join a community that celebrates creativity and craftsmanship in all its forms.</p>\n\n<p>Tuesday\, January 21&nbsp\;| 10 - 11 a.m. | Meeting Room | Adult Program<br />\nMain Library: 455 McKinney Pkwy\, Lillington\, NC 27546<br />\n<em>No Registration Required</em></p>\n
LOCATION:Main Library 455 McKinney Pkwy Lillington\, NC 27546
UID:e.1992.7650
SEQUENCE:3
DTSTAMP:20260421T070736Z
URL:https://members.lillingtonchamber.org/events/details/chronicles-of-yarnia-01-21-2025-7650
END:VEVENT

END:VCALENDAR
