BEGIN:VCALENDAR
VERSION:2.0
PRODID:-//ChamberMaster//Event Calendar 2.0//EN
METHOD:PUBLISH
X-PUBLISHED-TTL:P3D
REFRESH-INTERVAL:P3D
CALSCALE:GREGORIAN
BEGIN:VEVENT
DTSTART:20250401T160000Z
DTEND:20250401T170000Z
X-MICROSOFT-CDO-ALLDAYEVENT:FALSE
SUMMARY:Cultivate and Connect: Gardening Workshop
DESCRIPTION:Join us for an enriching gardening lunch & learn where you can Main Library is excited to host a monthly lunch and learn in partnership with NC Cooperative Extension.\n\n\n	Engaging Presentations: Learn from an expert Master Gardener from the NC Cooperative Extension as they share their wealth of knowledge on various gardening topics.\n	Hands-On Activities: Activities related to the presentation\, giving you practical experience to enhance your gardening skills.\n	Educational Resources: Access a wealth of resources to deepen your understanding of gardening techniques and best practices.\n	Q&A Session: Have burning questions about your garden? Get personalized answers and tips from our knowledgeable team.\n\n\nWhether you're a seasoned gardener or just starting out\, this is the perfect opportunity to grow your passion for gardening and forge connections within your community. Mark your calendars and join us for an inspiring gardening journey.\n\n\n\nLearn more: https://main.harnettlibrary.org/cultivate-connect\n\n1st Tuesday of the month | 12 - 1 p.m. | Training Room | Adult Program\n\nMain Library: 455 McKinney Pkwy\, Lillington\, NC 27546\n\nThis program is a partnership with Harnett County Public Libraries and the NC Cooperative Extension.
X-ALT-DESC;FMTTYPE=text/html:<p>Join us for an enriching gardening lunch &amp\; learn where you can Main Library is excited to host a monthly lunch and learn in partnership with NC Cooperative Extension.</p>\n\n<ul>\n	<li><strong>Engaging Presentations</strong>: Learn from an expert Master Gardener from the NC Cooperative Extension as they share their wealth of knowledge on various gardening topics.</li>\n	<li><strong>Hands-On Activities</strong>: Activities related to the presentation\, giving you practical experience to enhance your gardening skills.</li>\n	<li><strong>Educational Resources</strong>: Access a wealth of resources to deepen your understanding of gardening techniques and best practices.</li>\n	<li><strong>Q&amp\;A Session</strong>: Have burning questions about your garden? Get personalized answers and tips from our knowledgeable team.</li>\n</ul>\n\n<p>Whether you&#39\;re a seasoned gardener or just starting out\, this is the perfect opportunity to grow your passion for gardening and forge connections within your community. Mark your calendars and join us for an inspiring gardening journey.<br />\n<br />\nLearn more: <a class="ProsemirrorEditor-link" href="https://main.harnettlibrary.org/cultivate-connect">https://main.harnettlibrary.org/cultivate-connect</a></p>\n\n<p>1st Tuesday of the month | 12 - 1 p.m. | Training Room | Adult Program<br />\nMain Library: 455 McKinney Pkwy\, Lillington\, NC 27546</p>\n\n<p><em>This program is a partnership with Harnett County Public Libraries and the NC Cooperative Extension.</em></p>\n
LOCATION:Main Library 455 McKinney Pkwy Lillington\, NC 27546
UID:e.1992.6797
SEQUENCE:3
DTSTAMP:20260424T045321Z
URL:https://members.lillingtonchamber.org/events/details/cultivate-and-connect-gardening-workshop-04-01-2025-6797
END:VEVENT

END:VCALENDAR
