BEGIN:VCALENDAR
VERSION:2.0
PRODID:-//ChamberMaster//Event Calendar 2.0//EN
METHOD:PUBLISH
X-PUBLISHED-TTL:P3D
REFRESH-INTERVAL:P3D
CALSCALE:GREGORIAN
BEGIN:VEVENT
DTSTART:20241109T160000Z
DTEND:20241109T200000Z
X-MICROSOFT-CDO-ALLDAYEVENT:FALSE
SUMMARY:Let's TACO BOUT It: New Construction & Financing
DESCRIPTION:Join us for FREE tacos\, tours\, and information on how to get you into your next home at the Falls of the Cape!
X-ALT-DESC;FMTTYPE=text/html:<br />\nJoin us for FREE tacos\, tours\, and information on how to get you into your next home at the Falls of the Cape!
LOCATION:78 Falls of the Cape Drive Lillington\, NC Falls of the Cape neighborhood by Adams Homes
UID:e.1992.7616
SEQUENCE:3
DTSTAMP:20260425T114110Z
URL:https://members.lillingtonchamber.org/events/details/let-s-taco-bout-it-new-construction-financing-7616
END:VEVENT

END:VCALENDAR
